BEGIN:VCALENDAR
VERSION:2.0
PRODID:-//https://digbymun.ca//NONSGML kigkonsult.se iCalcreator 2.41.71//
CALSCALE:GREGORIAN
METHOD:PUBLISH
UID:63353036-3866-4463-b031-316339333632
X-WR-CALNAME:JCal Pro Calendar
X-WR-CALDESC:Your online events calendar
X-WR-TIMEZONE:America/Halifax
BEGIN:VTIMEZONE
TZID:America/Halifax
TZUNTIL:20271107T050000Z
BEGIN:STANDARD
TZNAME:AST
DTSTART:20251102T020000
TZOFFSETFROM:-0300
TZOFFSETTO:-0400
RDATE:20261101T020000
END:STANDARD
BEGIN:DAYLIGHT
TZNAME:ADT
DTSTART:20260308T020000
TZOFFSETFROM:-0400
TZOFFSETTO:-0300
RDATE:20270314T020000
END:DAYLIGHT
END:VTIMEZONE
BEGIN:VEVENT
UID:20241008T170000UTC-6990otuutd@https://digby-municipality.mwvdev.info/
DTSTAMP:20260425T103956Z
CATEGORIES:Municipal Government
DTSTART;TZID=America/Halifax:20250812T170000
DTEND;TZID=America/Halifax:20250812T170000
SUMMARY:Committee of the Whole Meeting
URL:https://digbymun.ca/government/council-meeting-calendar/21-municipal-go
 vernment/53-committee-of-the-whole-meeting.html
END:VEVENT
END:VCALENDAR
