BEGIN:VCALENDAR
VERSION:2.0
PRODID:-//https://digbymun.ca//NONSGML kigkonsult.se iCalcreator 2.41.71//
CALSCALE:GREGORIAN
METHOD:PUBLISH
UID:35663365-3731-4864-a632-303731616437
X-WR-CALNAME:JCal Pro Calendar
X-WR-CALDESC:Your online events calendar
X-WR-TIMEZONE:America/Halifax
BEGIN:VTIMEZONE
TZID:America/Halifax
TZUNTIL:20271107T050000Z
BEGIN:STANDARD
TZNAME:AST
DTSTART:20251102T020000
TZOFFSETFROM:-0300
TZOFFSETTO:-0400
RDATE:20261101T020000
END:STANDARD
BEGIN:DAYLIGHT
TZNAME:ADT
DTSTART:20260308T020000
TZOFFSETFROM:-0400
TZOFFSETTO:-0300
RDATE:20270314T020000
END:DAYLIGHT
END:VTIMEZONE
BEGIN:VEVENT
UID:20260511T150000UTC-6726ukokHo@https://www.digbymun.ca/
DTSTAMP:20260424T073538Z
CATEGORIES:Municipal Government
DESCRIPTION:<p>Please be advised that the Municipal Office will be closed f
 or the following dates and times:</p>\n<ul>\n<li>Monday\, May 11 from 12pm
  to 5pm</li>\n<li>Tuesday\, May 12 all day (8am-5pm)</li>\n<li>Wednesday\,
  May 13 all day (8am-5pm)</li>\n</ul>\n<p>This closure is required to faci
 litate the installation of a generator at the office. This important upgra
 de has been supported by a $40\,000 contribution from the Provincial REMO 
 Capacity Grant Program.</p>\n<p>Once installed\, the generator will allow 
 the Municipal Office to operate as an Emergency Operations Centre for Digb
 y County REMO when needed\, helping strengthen our community’s emergency p
 reparedness.</p>\n<p>Please note that the Committee of the Whole (COTW) me
 eting scheduled for May 12 at 5pm will proceed as planned.</p>\n<p>The Mun
 icipal Office will reopen for regular business hours on Thursday\, May 14.
  We apologize for any inconvenience and appreciate your understanding.</p>
DTSTART;TZID=America/Halifax:20260511T120000
DTEND;TZID=America/Halifax:20260511T170000
SUMMARY:Office Temporarily Closed
URL:https://digbymun.ca/government/council-meeting-calendar/21-municipal-go
 vernment/82-office-temporarily-closed.html
X-ALT-DESC;FMTTYPE=TEXT/HTML:<p>Please be advised that the Municipal Office
  will be closed for the following dates and times:</p>\n<ul>\n<li>Monday\,
  May 11 from 12pm to 5pm</li>\n<li>Tuesday\, May 12 all day (8am-5pm)</li>
 \n<li>Wednesday\, May 13 all day (8am-5pm)</li>\n</ul>\n<p>This closure is
  required to facilitate the installation of a generator at the office. Thi
 s important upgrade has been supported by a $40\,000 contribution from the
  Provincial REMO Capacity Grant Program.</p>\n<p>Once installed\, the gene
 rator will allow the Municipal Office to operate as an Emergency Operation
 s Centre for Digby County REMO when needed\, helping strengthen our commun
 ity’s emergency preparedness.</p>\n<p>Please note that the Committee of th
 e Whole (COTW) meeting scheduled for May 12 at 5pm will proceed as planned
 .</p>\n<p>The Municipal Office will reopen for regular business hours on T
 hursday\, May 14. We apologize for any inconvenience and appreciate your u
 nderstanding.</p>
END:VEVENT
BEGIN:VEVENT
UID:20260512T080000UTC-7792GVwJbm@https://www.digbymun.ca/
DTSTAMP:20260424T073538Z
CATEGORIES:Municipal Government
DESCRIPTION:<p>Please be advised that the Municipal Office will be closed f
 or the following dates and times:</p>\n<ul>\n<li>Monday\, May 11 from 12pm
  to 5pm</li>\n<li>Tuesday\, May 12 all day (8am-5pm)</li>\n<li>Wednesday\,
  May 13 all day (8am-5pm)</li>\n</ul>\n<p>This closure is required to faci
 litate the installation of a generator at the office. This important upgra
 de has been supported by a $40\,000 contribution from the Provincial REMO 
 Capacity Grant Program.</p>\n<p>Once installed\, the generator will allow 
 the Municipal Office to operate as an Emergency Operations Centre for Digb
 y County REMO when needed\, helping strengthen our community’s emergency p
 reparedness.</p>\n<p>Please note that the Committee of the Whole (COTW) me
 eting scheduled for May 12 at 5pm will proceed as planned.</p>\n<p>The Mun
 icipal Office will reopen for regular business hours on Thursday\, May 14.
  We apologize for any inconvenience and appreciate your understanding.</p>
DTSTART;TZID=America/Halifax:20260512T080000
DTEND;TZID=America/Halifax:20260512T170000
SUMMARY:Office Temporarily Closed
URL:https://digbymun.ca/government/council-meeting-calendar/21-municipal-go
 vernment/83-office-temporarily-closed.html
X-ALT-DESC;FMTTYPE=TEXT/HTML:<p>Please be advised that the Municipal Office
  will be closed for the following dates and times:</p>\n<ul>\n<li>Monday\,
  May 11 from 12pm to 5pm</li>\n<li>Tuesday\, May 12 all day (8am-5pm)</li>
 \n<li>Wednesday\, May 13 all day (8am-5pm)</li>\n</ul>\n<p>This closure is
  required to facilitate the installation of a generator at the office. Thi
 s important upgrade has been supported by a $40\,000 contribution from the
  Provincial REMO Capacity Grant Program.</p>\n<p>Once installed\, the gene
 rator will allow the Municipal Office to operate as an Emergency Operation
 s Centre for Digby County REMO when needed\, helping strengthen our commun
 ity’s emergency preparedness.</p>\n<p>Please note that the Committee of th
 e Whole (COTW) meeting scheduled for May 12 at 5pm will proceed as planned
 .</p>\n<p>The Municipal Office will reopen for regular business hours on T
 hursday\, May 14. We apologize for any inconvenience and appreciate your u
 nderstanding.</p>
END:VEVENT
BEGIN:VEVENT
UID:20260113T170000UTC-9809ZpKxH4@https://www.digbymun.ca/
DTSTAMP:20260424T073538Z
CATEGORIES:Municipal Government
DTSTART;TZID=America/Halifax:20260113T170000
DTEND;TZID=America/Halifax:20260113T190000
RRULE:FREQ=MONTHLY;UNTIL=20261220T040000Z;INTERVAL=1;BYDAY=TU;BYSETPOS=2
SUMMARY:Committee of the Whole Meeting
URL:https://digbymun.ca/government/council-meeting-calendar/21-municipal-go
 vernment/58-committee-of-the-whole-meeting.html
END:VEVENT
BEGIN:VEVENT
UID:20260513T080000UTC-3948suNJpI@https://www.digbymun.ca/
DTSTAMP:20260424T073538Z
CATEGORIES:Municipal Government
DESCRIPTION:<p>Please be advised that the Municipal Office will be closed f
 or the following dates and times:</p>\n<ul>\n<li>Monday\, May 11 from 12pm
  to 5pm</li>\n<li>Tuesday\, May 12 all day (8am-5pm)</li>\n<li>Wednesday\,
  May 13 all day (8am-5pm)</li>\n</ul>\n<p>This closure is required to faci
 litate the installation of a generator at the office. This important upgra
 de has been supported by a $40\,000 contribution from the Provincial REMO 
 Capacity Grant Program.</p>\n<p>Once installed\, the generator will allow 
 the Municipal Office to operate as an Emergency Operations Centre for Digb
 y County REMO when needed\, helping strengthen our community’s emergency p
 reparedness.</p>\n<p>Please note that the Committee of the Whole (COTW) me
 eting scheduled for May 12 at 5pm will proceed as planned.</p>\n<p>The Mun
 icipal Office will reopen for regular business hours on Thursday\, May 14.
  We apologize for any inconvenience and appreciate your understanding.</p>
DTSTART;TZID=America/Halifax:20260513T080000
DTEND;TZID=America/Halifax:20260513T170000
SUMMARY:Office Temporarily Closed
URL:https://digbymun.ca/government/council-meeting-calendar/21-municipal-go
 vernment/84-office-temporarily-closed.html
X-ALT-DESC;FMTTYPE=TEXT/HTML:<p>Please be advised that the Municipal Office
  will be closed for the following dates and times:</p>\n<ul>\n<li>Monday\,
  May 11 from 12pm to 5pm</li>\n<li>Tuesday\, May 12 all day (8am-5pm)</li>
 \n<li>Wednesday\, May 13 all day (8am-5pm)</li>\n</ul>\n<p>This closure is
  required to facilitate the installation of a generator at the office. Thi
 s important upgrade has been supported by a $40\,000 contribution from the
  Provincial REMO Capacity Grant Program.</p>\n<p>Once installed\, the gene
 rator will allow the Municipal Office to operate as an Emergency Operation
 s Centre for Digby County REMO when needed\, helping strengthen our commun
 ity’s emergency preparedness.</p>\n<p>Please note that the Committee of th
 e Whole (COTW) meeting scheduled for May 12 at 5pm will proceed as planned
 .</p>\n<p>The Municipal Office will reopen for regular business hours on T
 hursday\, May 14. We apologize for any inconvenience and appreciate your u
 nderstanding.</p>
END:VEVENT
END:VCALENDAR
